BEGIN:VCALENDAR
VERSION:2.0
PRODID:-//Landmark - ECPv6.15.18//NONSGML v1.0//EN
CALSCALE:GREGORIAN
METHOD:PUBLISH
X-WR-CALNAME:Landmark
X-ORIGINAL-URL:https://ltaag.com
X-WR-CALDESC:Events for Landmark
REFRESH-INTERVAL;VALUE=DURATION:PT1H
X-Robots-Tag:noindex
X-PUBLISHED-TTL:PT1H
BEGIN:VTIMEZONE
TZID:UTC
BEGIN:STANDARD
TZOFFSETFROM:+0000
TZOFFSETTO:+0000
TZNAME:UTC
DTSTART:20250101T000000
END:STANDARD
END:VTIMEZONE
BEGIN:VEVENT
DTSTART;TZID=UTC:20260219T083000
DTEND;TZID=UTC:20260219T120000
DTSTAMP:20260423T095040
CREATED:20260203T192330Z
LAST-MODIFIED:20260203T192330Z
UID:2574-1771489800-1771502400@ltaag.com
SUMMARY:Moon Valley Home Tour | Realtor Listing Tour in Phoenix AZ
DESCRIPTION:The Moon Valley Home Tour is a recurring realtor home tour designed to showcase active listings in the Moon Valley area of Phoenix\, Arizona. Held on the third Thursday of every month at 8:30 AM\, this tour provides listing agents with valuable exposure while giving attending agents the opportunity to preview homes for buyers and stay connected to the local market. \nAgents can register their listings to be featured on the next tour\, scheduled for February 19\, 2026. Co-hosted by industry partners\, the Moon Valley Home Tour is ideal for real estate professionals looking to build relationships\, gain neighborhood insight\, and better serve buyers and sellers in the Moon Valley community.
URL:https://ltaag.com/event/moon-valley-home-tour-realtor-listing-tour-in-phoenix-az/
LOCATION:AZ
CATEGORIES:Arizona
ATTACH;FMTTYPE=image/png:https://ltaag.com/wp-content/uploads/2026/02/IMG_6805.png
ORGANIZER;CN="Cynthia Lujan":MAILTO:cynthia.lujan@ltaz.com
END:VEVENT
BEGIN:VEVENT
DTSTART;TZID=UTC:20260225T090000
DTEND;TZID=UTC:20260225T120000
DTSTAMP:20260423T095040
CREATED:20260203T193420Z
LAST-MODIFIED:20260203T193440Z
UID:2576-1772010000-1772020800@ltaag.com
SUMMARY:Biltmore Luxury Tour | Luxury Home Tour in Phoenix AZ
DESCRIPTION:The Biltmore Luxury Tour is a recurring luxury realtor home tour designed to showcase high-end listings in the Biltmore area of Phoenix\, Arizona. Held on the last Wednesday of every month\, this tour provides luxury listing agents with premium exposure while giving attending agents the opportunity to preview properties for qualified buyers. \nThe tour meets at 2720 E Camelback Rd\, Building E\, Phoenix\, AZ 85016 and is ideal for real estate professionals specializing in luxury homes\, high-net-worth clients\, and elevated property marketing. Industry partners and sponsors support the tour\, creating a professional and polished experience for attendees.
URL:https://ltaag.com/event/biltmore-luxury-tour-luxury-home-tour-in-phoenix-az/
LOCATION:Landmark Biltmore Lakes Training Room\, 2720 E Camelback Rd\, East Building\, Phoenix\, AZ\, 85016\, United States
CATEGORIES:Arizona
ATTACH;FMTTYPE=image/jpeg:https://ltaag.com/wp-content/uploads/2026/02/IMG_1467-scaled.jpeg
ORGANIZER;CN="Megan Lauer":MAILTO:becky.riding@ltaz.com
END:VEVENT
END:VCALENDAR